Package: fenr Version: 1.4.1 Command: /Library/Frameworks/R.framework/Resources/bin/R CMD INSTALL fenr StartedAt: 2025-01-30 15:57:44 -0500 (Thu, 30 Jan 2025) EndedAt: 2025-01-30 15:57:51 -0500 (Thu, 30 Jan 2025) EllapsedTime: 7.2 seconds RetCode: 0 Status: OK