Package: fenr Version: 1.4.1 Command: /home/biocbuild/bbs-3.20-bioc/R/bin/R CMD check --install=check:fenr.install-out.txt --library=/home/biocbuild/bbs-3.20-bioc/R/site-library --timings fenr_1.4.1.tar.gz StartedAt: 2025-02-03 22:21:57 -0500 (Mon, 03 Feb 2025) EndedAt: 2025-02-03 22:25:02 -0500 (Mon, 03 Feb 2025) EllapsedTime: 184.2 seconds RetCode: 0 Status: OK CheckDir: fenr.Rcheck Warnings: 0