Package: fenr Version: 1.4.1 Command: /home/biocbuild/R/R/bin/R CMD build --keep-empty-dirs --no-resave-data fenr StartedAt: 2025-02-03 23:35:16 -0000 (Mon, 03 Feb 2025) EndedAt: 2025-02-03 23:35:46 -0000 (Mon, 03 Feb 2025) EllapsedTime: 30.0 seconds RetCode: 0 Status: OK PackageFile: fenr_1.4.1.tar.gz PackageFileSize: 1.991 MiB