Package: fenr Version: 1.4.1 Command: /home/biocbuild/R/R/bin/R CMD check --install=check:fenr.install-out.txt --library=/home/biocbuild/R/R/site-library --no-vignettes --timings fenr_1.4.1.tar.gz StartedAt: 2025-02-04 06:59:44 -0000 (Tue, 04 Feb 2025) EndedAt: 2025-02-04 07:03:59 -0000 (Tue, 04 Feb 2025) EllapsedTime: 255.3 seconds RetCode: 0 Status: OK CheckDir: fenr.Rcheck Warnings: 0