Package: ffpe Version: 1.50.0 Command: /Library/Frameworks/R.framework/Resources/bin/R CMD check --install=check:ffpe.install-out.txt --library=/Library/Frameworks/R.framework/Resources/library --no-vignettes --timings ffpe_1.50.0.tar.gz StartedAt: 2025-01-31 03:53:43 -0500 (Fri, 31 Jan 2025) EndedAt: 2025-01-31 04:04:45 -0500 (Fri, 31 Jan 2025) EllapsedTime: 661.7 seconds RetCode: 0 Status: OK CheckDir: ffpe.Rcheck Warnings: 0