Package: ffpe Version: 1.50.0 Command: /home/biocbuild/bbs-3.20-bioc/R/bin/R CMD INSTALL ffpe StartedAt: 2025-01-30 16:00:22 -0500 (Thu, 30 Jan 2025) EndedAt: 2025-01-30 16:01:08 -0500 (Thu, 30 Jan 2025) EllapsedTime: 45.4 seconds RetCode: 0 Status: OK