Package: ffpe Version: 1.50.0 Command: /home/biocbuild/R/R/bin/R CMD build --keep-empty-dirs --no-resave-data ffpe StartedAt: 2025-01-30 23:35:44 -0000 (Thu, 30 Jan 2025) EndedAt: 2025-01-30 23:37:09 -0000 (Thu, 30 Jan 2025) EllapsedTime: 85.0 seconds RetCode: 0 Status: OK PackageFile: ffpe_1.50.0.tar.gz PackageFileSize: 259.4 KiB