Package: fgga Version: 1.14.0 Command: /Library/Frameworks/R.framework/Resources/bin/R CMD INSTALL fgga StartedAt: 2025-02-03 15:40:03 -0500 (Mon, 03 Feb 2025) EndedAt: 2025-02-03 15:40:10 -0500 (Mon, 03 Feb 2025) EllapsedTime: 7.0 seconds RetCode: 0 Status: OK