Package: fgga Version: 1.14.0 Command: /Library/Frameworks/R.framework/Resources/bin/R CMD build --keep-empty-dirs --no-resave-data fgga StartedAt: 2025-02-10 18:53:08 -0500 (Mon, 10 Feb 2025) EndedAt: 2025-02-10 18:55:13 -0500 (Mon, 10 Feb 2025) EllapsedTime: 125.2 seconds RetCode: 0 Status: OK PackageFile: fgga_1.14.0.tar.gz PackageFileSize: 1.358 MiB