Package: fgga Version: 1.14.0 Command: /home/biocbuild/bbs-3.20-bioc/R/bin/R CMD check --install=check:fgga.install-out.txt --library=/home/biocbuild/bbs-3.20-bioc/R/site-library --timings fgga_1.14.0.tar.gz StartedAt: 2025-02-03 22:22:12 -0500 (Mon, 03 Feb 2025) EndedAt: 2025-02-03 22:24:42 -0500 (Mon, 03 Feb 2025) EllapsedTime: 149.2 seconds RetCode: 0 Status: OK CheckDir: fgga.Rcheck Warnings: 0