Package: fgga Version: 1.14.0 Command: /home/biocbuild/bbs-3.20-bioc/R/bin/R CMD INSTALL fgga StartedAt: 2025-02-03 15:24:59 -0500 (Mon, 03 Feb 2025) EndedAt: 2025-02-03 15:25:11 -0500 (Mon, 03 Feb 2025) EllapsedTime: 11.3 seconds RetCode: 0 Status: OK