Package: fgga Version: 1.14.0 Command: chmod a+r fgga -R && F:\biocbuild\bbs-3.20-bioc\R\bin\R.exe CMD build --keep-empty-dirs --no-resave-data fgga StartedAt: 2025-02-03 19:08:25 -0500 (Mon, 03 Feb 2025) EndedAt: 2025-02-03 19:09:31 -0500 (Mon, 03 Feb 2025) EllapsedTime: 66.1 seconds RetCode: 0 Status: OK PackageFile: fgga_1.14.0.tar.gz PackageFileSize: 1.306 MiB