Package: fgga Version: 1.14.0 Command: F:\biocbuild\bbs-3.20-bioc\R\bin\R.exe CMD check --no-multiarch --install=check:fgga.install-out.txt --library=F:\biocbuild\bbs-3.20-bioc\R\library --no-vignettes --timings fgga_1.14.0.tar.gz StartedAt: 2025-02-04 01:50:15 -0500 (Tue, 04 Feb 2025) EndedAt: 2025-02-04 01:52:32 -0500 (Tue, 04 Feb 2025) EllapsedTime: 137.6 seconds RetCode: 0 Status: OK CheckDir: fgga.Rcheck Warnings: 0