Package: fgga Version: 1.14.0 Command: /home/biocbuild/R/R/bin/R CMD build --keep-empty-dirs --no-resave-data fgga StartedAt: 2025-02-03 23:35:24 -0000 (Mon, 03 Feb 2025) EndedAt: 2025-02-03 23:36:30 -0000 (Mon, 03 Feb 2025) EllapsedTime: 66.0 seconds RetCode: 0 Status: OK PackageFile: fgga_1.14.0.tar.gz PackageFileSize: 1.375 MiB