Package: findIPs Version: 1.2.0 Command: rm -rf findIPs.buildbin-libdir && mkdir findIPs.buildbin-libdir && /Users/biocbuild/BBS/utils/build-universal.sh findIPs_1.2.0.tar.gz /Library/Frameworks/R.framework/Resources/bin/R findIPs.buildbin-libdir StartedAt: 2025-02-05 15:51:04 -0500 (Wed, 05 Feb 2025) EndedAt: 2025-02-05 15:51:31 -0500 (Wed, 05 Feb 2025) EllapsedTime: 26.3 seconds RetCode: 0 Status: OK PackageFile: findIPs_1.2.0.tgz PackageFileSize: 2.139 MiB