Package: findIPs Version: 1.2.0 Command: /home/biocbuild/bbs-3.20-bioc/R/bin/R CMD check --install=check:findIPs.install-out.txt --library=/home/biocbuild/bbs-3.20-bioc/R/site-library --timings findIPs_1.2.0.tar.gz StartedAt: 2025-02-03 22:22:57 -0500 (Mon, 03 Feb 2025) EndedAt: 2025-02-03 22:33:54 -0500 (Mon, 03 Feb 2025) EllapsedTime: 656.9 seconds RetCode: 0 Status: OK CheckDir: findIPs.Rcheck Warnings: 0