Package: findIPs Version: 1.2.0 Command: rm -rf findIPs.buildbin-libdir && mkdir findIPs.buildbin-libdir && F:\biocbuild\bbs-3.20-bioc\R\bin\R.exe CMD INSTALL --build --library=findIPs.buildbin-libdir findIPs_1.2.0.tar.gz StartedAt: 2025-02-04 08:29:47 -0500 (Tue, 04 Feb 2025) EndedAt: 2025-02-04 08:30:14 -0500 (Tue, 04 Feb 2025) EllapsedTime: 27.0 seconds RetCode: 0 Status: OK PackageFile: findIPs_1.2.0.zip PackageFileSize: 2.036 MiB