Package: findIPs Version: 1.2.0 Command: chmod a+r findIPs -R && F:\biocbuild\bbs-3.20-bioc\R\bin\R.exe CMD build --keep-empty-dirs --no-resave-data findIPs StartedAt: 2025-02-03 19:08:50 -0500 (Mon, 03 Feb 2025) EndedAt: 2025-02-03 19:18:50 -0500 (Mon, 03 Feb 2025) EllapsedTime: 600.2 seconds RetCode: 0 Status: OK PackageFile: findIPs_1.2.0.tar.gz PackageFileSize: 2.187 MiB