Package: findIPs Version: 1.2.0 Command: F:\biocbuild\bbs-3.20-bioc\R\bin\R.exe CMD INSTALL findIPs StartedAt: 2025-02-03 16:23:09 -0500 (Mon, 03 Feb 2025) EndedAt: 2025-02-03 16:23:34 -0500 (Mon, 03 Feb 2025) EllapsedTime: 24.7 seconds RetCode: 0 Status: OK