Package: flagme Version: 1.62.0 Command: /Library/Frameworks/R.framework/Resources/bin/R CMD build --keep-empty-dirs --no-resave-data flagme StartedAt: 2025-02-10 23:47:01 -0500 (Mon, 10 Feb 2025) EndedAt: 2025-02-10 23:51:17 -0500 (Mon, 10 Feb 2025) EllapsedTime: 255.8 seconds RetCode: 0 Status: OK PackageFile: flagme_1.62.0.tar.gz PackageFileSize: 726.8 KiB