Package: flagme Version: 1.62.0 Command: rm -rf flagme.buildbin-libdir && mkdir flagme.buildbin-libdir && /Users/biocbuild/BBS/utils/build-universal.sh flagme_1.62.0.tar.gz /Library/Frameworks/R.framework/Resources/bin/R flagme.buildbin-libdir StartedAt: 2025-02-04 12:57:03 -0500 (Tue, 04 Feb 2025) EndedAt: 2025-02-04 12:58:52 -0500 (Tue, 04 Feb 2025) EllapsedTime: 108.8 seconds RetCode: 0 Status: OK PackageFile: flagme_1.62.0.tgz PackageFileSize: 1.203 MiB