Package: flagme Version: 1.62.0 Command: /Library/Frameworks/R.framework/Resources/bin/R CMD build --keep-empty-dirs --no-resave-data flagme StartedAt: 2025-02-03 18:57:38 -0500 (Mon, 03 Feb 2025) EndedAt: 2025-02-03 19:04:26 -0500 (Mon, 03 Feb 2025) EllapsedTime: 408.7 seconds RetCode: 0 Status: OK PackageFile: flagme_1.62.0.tar.gz PackageFileSize: 727.1 KiB