Package: flagme Version: 1.62.0 Command: /Library/Frameworks/R.framework/Resources/bin/R CMD INSTALL flagme StartedAt: 2025-02-03 16:24:56 -0500 (Mon, 03 Feb 2025) EndedAt: 2025-02-03 16:26:37 -0500 (Mon, 03 Feb 2025) EllapsedTime: 101.1 seconds RetCode: 0 Status: OK