Package: flagme Version: 1.62.0 Command: rm -rf flagme.buildbin-libdir && mkdir flagme.buildbin-libdir && F:\biocbuild\bbs-3.20-bioc\R\bin\R.exe CMD INSTALL --build --library=flagme.buildbin-libdir flagme_1.62.0.tar.gz StartedAt: 2025-02-04 08:29:58 -0500 (Tue, 04 Feb 2025) EndedAt: 2025-02-04 08:31:36 -0500 (Tue, 04 Feb 2025) EllapsedTime: 97.9 seconds RetCode: 0 Status: OK PackageFile: flagme_1.62.0.zip PackageFileSize: 953.1 KiB