Package: flagme Version: 1.62.0 Command: chmod a+r flagme -R && F:\biocbuild\bbs-3.20-bioc\R\bin\R.exe CMD build --keep-empty-dirs --no-resave-data flagme StartedAt: 2025-02-03 19:09:34 -0500 (Mon, 03 Feb 2025) EndedAt: 2025-02-03 19:14:06 -0500 (Mon, 03 Feb 2025) EllapsedTime: 272.8 seconds RetCode: 0 Status: OK PackageFile: flagme_1.62.0.tar.gz PackageFileSize: 427.2 KiB