Package: flagme Version: 1.62.0 Command: /home/biocbuild/R/R/bin/R CMD build --keep-empty-dirs --no-resave-data flagme StartedAt: 2025-02-10 23:26:50 -0000 (Mon, 10 Feb 2025) EndedAt: 2025-02-10 23:30:49 -0000 (Mon, 10 Feb 2025) EllapsedTime: 239.1 seconds RetCode: 0 Status: OK PackageFile: flagme_1.62.0.tar.gz PackageFileSize: 703 KiB