Package: flowAI Version: 1.36.0 Command: /Library/Frameworks/R.framework/Resources/bin/R CMD INSTALL flowAI StartedAt: 2025-02-10 16:39:13 -0500 (Mon, 10 Feb 2025) EndedAt: 2025-02-10 16:39:24 -0500 (Mon, 10 Feb 2025) EllapsedTime: 11.3 seconds RetCode: 0 Status: OK