Package: flowAI Version: 1.36.0 Command: /Library/Frameworks/R.framework/Resources/bin/R CMD build --keep-empty-dirs --no-resave-data flowAI StartedAt: 2025-02-03 18:57:50 -0500 (Mon, 03 Feb 2025) EndedAt: 2025-02-03 18:58:24 -0500 (Mon, 03 Feb 2025) EllapsedTime: 34.6 seconds RetCode: 0 Status: OK PackageFile: flowAI_1.36.0.tar.gz PackageFileSize: 3.748 MiB