Package: flowAI Version: 1.36.0 Command: /home/biocbuild/bbs-3.20-bioc/R/bin/R CMD build --keep-empty-dirs --no-resave-data --md5 flowAI StartedAt: 2025-02-03 17:26:17 -0500 (Mon, 03 Feb 2025) EndedAt: 2025-02-03 17:26:31 -0500 (Mon, 03 Feb 2025) EllapsedTime: 14.0 seconds RetCode: 0 Status: OK PackageFile: flowAI_1.36.0.tar.gz PackageFileSize: 3.748 MiB