Package: flowAI Version: 1.36.0 Command: /home/biocbuild/bbs-3.20-bioc/R/bin/R CMD INSTALL flowAI StartedAt: 2025-02-03 15:39:42 -0500 (Mon, 03 Feb 2025) EndedAt: 2025-02-03 15:39:50 -0500 (Mon, 03 Feb 2025) EllapsedTime: 8.4 seconds RetCode: 0 Status: OK