Package: flowAI Version: 1.36.0 Command: chmod a+r flowAI -R && F:\biocbuild\bbs-3.20-bioc\R\bin\R.exe CMD build --keep-empty-dirs --no-resave-data flowAI StartedAt: 2025-02-03 19:09:53 -0500 (Mon, 03 Feb 2025) EndedAt: 2025-02-03 19:10:15 -0500 (Mon, 03 Feb 2025) EllapsedTime: 22.1 seconds RetCode: 0 Status: OK PackageFile: flowAI_1.36.0.tar.gz PackageFileSize: 3.748 MiB