Package: flowAI Version: 1.36.0 Command: /home/biocbuild/R/R/bin/R CMD INSTALL flowAI StartedAt: 2025-02-10 20:40:42 -0000 (Mon, 10 Feb 2025) EndedAt: 2025-02-10 20:40:55 -0000 (Mon, 10 Feb 2025) EllapsedTime: 13.5 seconds RetCode: 0 Status: OK