Package: flowBeads Version: 1.44.0 Command: /Library/Frameworks/R.framework/Resources/bin/R CMD check --install=check:flowBeads.install-out.txt --library=/Library/Frameworks/R.framework/Resources/library --no-vignettes --timings flowBeads_1.44.0.tar.gz StartedAt: 2025-02-04 03:45:31 -0500 (Tue, 04 Feb 2025) EndedAt: 2025-02-04 03:47:57 -0500 (Tue, 04 Feb 2025) EllapsedTime: 145.7 seconds RetCode: 0 Status: WARNINGS CheckDir: flowBeads.Rcheck Warnings: 2