Package: flowBeads Version: 1.44.0 Command: rm -rf flowBeads.buildbin-libdir && mkdir flowBeads.buildbin-libdir && F:\biocbuild\bbs-3.20-bioc\R\bin\R.exe CMD INSTALL --build --library=flowBeads.buildbin-libdir flowBeads_1.44.0.tar.gz StartedAt: 2025-02-04 08:30:01 -0500 (Tue, 04 Feb 2025) EndedAt: 2025-02-04 08:30:47 -0500 (Tue, 04 Feb 2025) EllapsedTime: 45.3 seconds RetCode: 0 Status: OK PackageFile: flowBeads_1.44.0.zip PackageFileSize: 1.086 MiB