Package: flowBin Version: 1.42.0 Command: rm -rf flowBin.buildbin-libdir && mkdir flowBin.buildbin-libdir && /Users/biocbuild/BBS/utils/build-universal.sh flowBin_1.42.0.tar.gz /Library/Frameworks/R.framework/Resources/bin/R flowBin.buildbin-libdir StartedAt: 2025-02-05 15:51:44 -0500 (Wed, 05 Feb 2025) EndedAt: 2025-02-05 15:51:58 -0500 (Wed, 05 Feb 2025) EllapsedTime: 13.5 seconds RetCode: 0 Status: OK PackageFile: flowBin_1.42.0.tgz PackageFileSize: 838.3 KiB