Package: flowBin Version: 1.42.0 Command: rm -rf flowBin.buildbin-libdir && mkdir flowBin.buildbin-libdir && /Users/biocbuild/BBS/utils/build-universal.sh flowBin_1.42.0.tar.gz /Library/Frameworks/R.framework/Resources/bin/R flowBin.buildbin-libdir StartedAt: 2025-02-04 12:57:13 -0500 (Tue, 04 Feb 2025) EndedAt: 2025-02-04 12:57:38 -0500 (Tue, 04 Feb 2025) EllapsedTime: 24.8 seconds RetCode: 0 Status: OK PackageFile: flowBin_1.42.0.tgz PackageFileSize: 838.4 KiB