Package: flowBin Version: 1.42.0 Command: /Library/Frameworks/R.framework/Resources/bin/R CMD check --install=check:flowBin.install-out.txt --library=/Library/Frameworks/R.framework/Resources/library --no-vignettes --timings flowBin_1.42.0.tar.gz StartedAt: 2025-02-04 03:45:52 -0500 (Tue, 04 Feb 2025) EndedAt: 2025-02-04 03:49:04 -0500 (Tue, 04 Feb 2025) EllapsedTime: 192.1 seconds RetCode: 0 Status: OK CheckDir: flowBin.Rcheck Warnings: 0