Package: flowBin Version: 1.42.0 Command: /home/biocbuild/bbs-3.20-bioc/R/bin/R CMD build --keep-empty-dirs --no-resave-data --md5 flowBin StartedAt: 2025-02-03 17:26:29 -0500 (Mon, 03 Feb 2025) EndedAt: 2025-02-03 17:26:52 -0500 (Mon, 03 Feb 2025) EllapsedTime: 23.0 seconds RetCode: 0 Status: OK PackageFile: flowBin_1.42.0.tar.gz PackageFileSize: 576.8 KiB