Package: flowBin Version: 1.42.0 Command: rm -rf flowBin.buildbin-libdir && mkdir flowBin.buildbin-libdir && F:\biocbuild\bbs-3.20-bioc\R\bin\R.exe CMD INSTALL --build --library=flowBin.buildbin-libdir flowBin_1.42.0.tar.gz StartedAt: 2025-02-04 08:30:03 -0500 (Tue, 04 Feb 2025) EndedAt: 2025-02-04 08:30:39 -0500 (Tue, 04 Feb 2025) EllapsedTime: 35.6 seconds RetCode: 0 Status: OK PackageFile: flowBin_1.42.0.zip PackageFileSize: 750 KiB