Package: flowBin Version: 1.42.0 Command: chmod a+r flowBin -R && F:\biocbuild\bbs-3.20-bioc\R\bin\R.exe CMD build --keep-empty-dirs --no-resave-data flowBin StartedAt: 2025-02-03 19:10:16 -0500 (Mon, 03 Feb 2025) EndedAt: 2025-02-03 19:10:49 -0500 (Mon, 03 Feb 2025) EllapsedTime: 32.9 seconds RetCode: 0 Status: OK PackageFile: flowBin_1.42.0.tar.gz PackageFileSize: 483.4 KiB