Package: flowBin Version: 1.42.0 Command: F:\biocbuild\bbs-3.20-bioc\R\bin\R.exe CMD INSTALL flowBin StartedAt: 2025-02-03 15:47:23 -0500 (Mon, 03 Feb 2025) EndedAt: 2025-02-03 15:48:04 -0500 (Mon, 03 Feb 2025) EllapsedTime: 41.1 seconds RetCode: 0 Status: OK