Package: flowBin Version: 1.42.0 Command: /home/biocbuild/R/R/bin/R CMD build --keep-empty-dirs --no-resave-data flowBin StartedAt: 2025-02-03 23:37:50 -0000 (Mon, 03 Feb 2025) EndedAt: 2025-02-03 23:38:22 -0000 (Mon, 03 Feb 2025) EllapsedTime: 32.0 seconds RetCode: 0 Status: OK PackageFile: flowBin_1.42.0.tar.gz PackageFileSize: 567.8 KiB