Package: flowBin Version: 1.42.0 Command: /home/biocbuild/R/R/bin/R CMD check --install=check:flowBin.install-out.txt --library=/home/biocbuild/R/R/site-library --no-vignettes --timings flowBin_1.42.0.tar.gz StartedAt: 2025-02-04 07:02:40 -0000 (Tue, 04 Feb 2025) EndedAt: 2025-02-04 07:04:11 -0000 (Tue, 04 Feb 2025) EllapsedTime: 90.1 seconds RetCode: 0 Status: OK CheckDir: flowBin.Rcheck Warnings: 0