Package: flowCHIC Version: 1.40.0 Command: rm -rf flowCHIC.buildbin-libdir && mkdir flowCHIC.buildbin-libdir && /Users/biocbuild/BBS/utils/build-universal.sh flowCHIC_1.40.0.tar.gz /Library/Frameworks/R.framework/Resources/bin/R flowCHIC.buildbin-libdir StartedAt: 2025-02-04 12:57:18 -0500 (Tue, 04 Feb 2025) EndedAt: 2025-02-04 12:57:53 -0500 (Tue, 04 Feb 2025) EllapsedTime: 34.6 seconds RetCode: 0 Status: OK PackageFile: flowCHIC_1.40.0.tgz PackageFileSize: 3.409 MiB