Package: flowCHIC Version: 1.40.0 Command: /Library/Frameworks/R.framework/Resources/bin/R CMD INSTALL flowCHIC StartedAt: 2025-02-10 15:51:36 -0500 (Mon, 10 Feb 2025) EndedAt: 2025-02-10 15:52:04 -0500 (Mon, 10 Feb 2025) EllapsedTime: 28.6 seconds RetCode: 0 Status: OK