Package: flowCHIC Version: 1.40.0 Command: /home/biocbuild/R/R/bin/R CMD build --keep-empty-dirs --no-resave-data flowCHIC StartedAt: 2025-02-03 23:38:22 -0000 (Mon, 03 Feb 2025) EndedAt: 2025-02-03 23:39:01 -0000 (Mon, 03 Feb 2025) EllapsedTime: 39.0 seconds RetCode: 0 Status: OK PackageFile: flowCHIC_1.40.0.tar.gz PackageFileSize: 3.235 MiB