Package: flowClean Version: 1.44.0 Command: /Library/Frameworks/R.framework/Resources/bin/R CMD build --keep-empty-dirs --no-resave-data flowClean StartedAt: 2025-01-30 19:09:42 -0500 (Thu, 30 Jan 2025) EndedAt: 2025-01-30 19:11:02 -0500 (Thu, 30 Jan 2025) EllapsedTime: 80.0 seconds RetCode: 0 Status: OK PackageFile: flowClean_1.44.0.tar.gz PackageFileSize: 4.873 MiB