Package: flowClean Version: 1.44.0 Command: /Library/Frameworks/R.framework/Resources/bin/R CMD check --install=check:flowClean.install-out.txt --library=/Library/Frameworks/R.framework/Resources/library --no-vignettes --timings flowClean_1.44.0.tar.gz StartedAt: 2025-02-04 03:46:31 -0500 (Tue, 04 Feb 2025) EndedAt: 2025-02-04 03:49:14 -0500 (Tue, 04 Feb 2025) EllapsedTime: 163.0 seconds RetCode: 0 Status: WARNINGS CheckDir: flowClean.Rcheck Warnings: 3