Package: flowClean Version: 1.44.0 Command: /home/biocbuild/R/R/bin/R CMD INSTALL flowClean StartedAt: 2025-01-30 20:18:13 -0000 (Thu, 30 Jan 2025) EndedAt: 2025-01-30 20:18:22 -0000 (Thu, 30 Jan 2025) EllapsedTime: 8.6 seconds RetCode: 0 Status: OK