Package: flowCut Version: 1.16.0 Command: /Library/Frameworks/R.framework/Resources/bin/R CMD check --install=check:flowCut.install-out.txt --library=/Library/Frameworks/R.framework/Resources/library --no-vignettes --timings flowCut_1.16.0.tar.gz StartedAt: 2025-02-04 19:58:58 -0500 (Tue, 04 Feb 2025) EndedAt: 2025-02-04 20:00:37 -0500 (Tue, 04 Feb 2025) EllapsedTime: 99.2 seconds RetCode: 0 Status: OK CheckDir: flowCut.Rcheck Warnings: 0